Package: ViSEAGO Version: 1.23.0 Command: /Library/Frameworks/R.framework/Resources/bin/R CMD build --keep-empty-dirs --no-resave-data ViSEAGO StartedAt: 2025-07-21 18:47:36 -0400 (Mon, 21 Jul 2025) EndedAt: 2025-07-21 18:48:46 -0400 (Mon, 21 Jul 2025) EllapsedTime: 69.5 seconds RetCode: 0 Status: OK PackageFile: ViSEAGO_1.23.0.tar.gz PackageFileSize: 8.622 MiB