Package: ViSEAGO Version: 1.23.0 Command: /Library/Frameworks/R.framework/Resources/bin/R CMD INSTALL ViSEAGO StartedAt: 2025-07-14 15:21:16 -0400 (Mon, 14 Jul 2025) EndedAt: 2025-07-14 15:21:29 -0400 (Mon, 14 Jul 2025) EllapsedTime: 12.9 seconds RetCode: 0 Status: OK