Package: ViSEAGO Version: 1.23.0 Command: /Library/Frameworks/R.framework/Resources/bin/R CMD build --keep-empty-dirs --no-resave-data ViSEAGO StartedAt: 2025-07-14 17:52:14 -0400 (Mon, 14 Jul 2025) EndedAt: 2025-07-14 17:52:40 -0400 (Mon, 14 Jul 2025) EllapsedTime: 25.3 seconds RetCode: 0 Status: OK PackageFile: ViSEAGO_1.23.0.tar.gz PackageFileSize: 8.622 MiB