Package: VennDetail Version: 1.25.2 Command: /home/biocbuild/R/R/bin/R CMD INSTALL VennDetail StartedAt: 2025-07-24 21:09:35 -0000 (Thu, 24 Jul 2025) EndedAt: 2025-07-24 21:10:15 -0000 (Thu, 24 Jul 2025) EllapsedTime: 40.1 seconds RetCode: 0 Status: OK