Package: VennDetail Version: 1.25.2 Command: /home/biocbuild/R/R/bin/R CMD build --keep-empty-dirs --no-resave-data VennDetail StartedAt: 2025-07-25 04:39:11 -0000 (Fri, 25 Jul 2025) EndedAt: 2025-07-25 04:39:33 -0000 (Fri, 25 Jul 2025) EllapsedTime: 22.0 seconds RetCode: 0 Status: OK PackageFile: VennDetail_1.25.2.tar.gz PackageFileSize: 636.7 KiB