Package: VennDetail Version: 1.25.2 Command: /home/biocbuild/bbs-3.22-bioc/R/bin/R CMD check --install=check:VennDetail.install-out.txt --library=/home/biocbuild/bbs-3.22-bioc/R/site-library --timings VennDetail_1.25.2.tar.gz StartedAt: 2025-07-22 03:41:43 -0400 (Tue, 22 Jul 2025) EndedAt: 2025-07-22 03:42:45 -0400 (Tue, 22 Jul 2025) EllapsedTime: 62.1 seconds RetCode: 0 Status: WARNINGS CheckDir: VennDetail.Rcheck Warnings: 2