Package: VennDetail Version: 1.25.2 Command: /Library/Frameworks/R.framework/Resources/bin/R CMD INSTALL VennDetail StartedAt: 2025-07-22 15:05:53 -0400 (Tue, 22 Jul 2025) EndedAt: 2025-07-22 15:05:56 -0400 (Tue, 22 Jul 2025) EllapsedTime: 3.3 seconds RetCode: 0 Status: OK