Package: VennDetail Version: 1.25.2 Command: /Library/Frameworks/R.framework/Resources/bin/R CMD check --install=check:VennDetail.install-out.txt --library=/Library/Frameworks/R.framework/Resources/library --no-vignettes --timings VennDetail_1.25.2.tar.gz StartedAt: 2025-07-22 22:03:21 -0400 (Tue, 22 Jul 2025) EndedAt: 2025-07-22 22:03:47 -0400 (Tue, 22 Jul 2025) EllapsedTime: 25.3 seconds RetCode: 0 Status: WARNINGS CheckDir: VennDetail.Rcheck Warnings: 2