Package: VennDetail Version: 1.25.2 Command: /Library/Frameworks/R.framework/Resources/bin/R CMD build --keep-empty-dirs --no-resave-data VennDetail StartedAt: 2025-07-22 17:52:08 -0400 (Tue, 22 Jul 2025) EndedAt: 2025-07-22 17:52:15 -0400 (Tue, 22 Jul 2025) EllapsedTime: 7.1 seconds RetCode: 0 Status: OK PackageFile: VennDetail_1.25.2.tar.gz PackageFileSize: 879 KiB