Package: VennDetail Version: 1.25.2 Command: rm -rf VennDetail.buildbin-libdir && mkdir VennDetail.buildbin-libdir && /Users/biocbuild/BBS/utils/build-universal.sh VennDetail_1.25.2.tar.gz /Library/Frameworks/R.framework/Resources/bin/R VennDetail.buildbin-libdir StartedAt: 2025-07-22 22:44:27 -0400 (Tue, 22 Jul 2025) EndedAt: 2025-07-22 22:44:31 -0400 (Tue, 22 Jul 2025) EllapsedTime: 4.1 seconds RetCode: 0 Status: OK PackageFile: VennDetail_1.25.2.tgz PackageFileSize: 983.4 KiB