Package: VegaMC Version: 3.47.0 Command: /home/biocbuild/R/R/bin/R CMD check --install=check:VegaMC.install-out.txt --library=/home/biocbuild/R/R/site-library --no-vignettes --timings VegaMC_3.47.0.tar.gz StartedAt: 2025-10-03 12:44:28 -0000 (Fri, 03 Oct 2025) EndedAt: 2025-10-03 12:46:35 -0000 (Fri, 03 Oct 2025) EllapsedTime: 127.1 seconds RetCode: 0 Status: WARNINGS CheckDir: VegaMC.Rcheck Warnings: 2