Package: VegaMC Version: 3.47.0 Command: F:\biocbuild\bbs-3.22-bioc\R\bin\R.exe CMD check --no-multiarch --install=check:VegaMC.install-out.txt --library=F:\biocbuild\bbs-3.22-bioc\R\library --no-vignettes --timings VegaMC_3.47.0.tar.gz StartedAt: 2025-07-02 07:42:00 -0400 (Wed, 02 Jul 2025) EndedAt: 2025-07-02 07:44:08 -0400 (Wed, 02 Jul 2025) EllapsedTime: 127.5 seconds RetCode: 0 Status: WARNINGS CheckDir: VegaMC.Rcheck Warnings: 1