Package: VariantAnnotation Version: 1.55.1 Command: rm -rf VariantAnnotation.buildbin-libdir && mkdir VariantAnnotation.buildbin-libdir && /Users/biocbuild/BBS/utils/build-universal.sh VariantAnnotation_1.55.1.tar.gz /Library/Frameworks/R.framework/Resources/bin/R VariantAnnotation.buildbin-libdir StartedAt: 2025-07-16 01:31:44 -0400 (Wed, 16 Jul 2025) EndedAt: 2025-07-16 01:33:16 -0400 (Wed, 16 Jul 2025) EllapsedTime: 92.2 seconds RetCode: 0 Status: OK PackageFile: VariantAnnotation_1.55.1.tgz PackageFileSize: 4.397 MiB