Package: VanillaICE Version: 1.71.0 Command: /home/biocbuild/R/R/bin/R CMD INSTALL VanillaICE StartedAt: 2025-07-14 21:02:01 -0000 (Mon, 14 Jul 2025) EndedAt: 2025-07-14 21:02:02 -0000 (Mon, 14 Jul 2025) EllapsedTime: 1.3 seconds RetCode: 1 Status: ERROR