############################################################################## ############################################################################## ### ### Running command: ### ### /home/biocbuild/R/R/bin/R CMD build --keep-empty-dirs --no-resave-data VanillaICE ### ############################################################################## ############################################################################## * checking for file ‘VanillaICE/DESCRIPTION’ ... OK * preparing ‘VanillaICE’: * checking DESCRIPTION meta-information ... OK * cleaning src * installing the package to build vignettes ----------------------------------- ERROR: dependency ‘BSgenome.Hsapiens.UCSC.hg18’ is not available for package ‘VanillaICE’ Perhaps try a variation of: install.packages('BSgenome.Hsapiens.UCSC.hg18') * removing ‘/home/biocbuild/tmp/RtmpaFhpzb/Rinst402fe50ad020e/VanillaICE’ ----------------------------------- ERROR: package installation failed