Package: VanillaICE Version: 1.71.0 Command: F:\biocbuild\bbs-3.22-bioc\R\bin\R.exe CMD check --no-multiarch --install=check:VanillaICE.install-out.txt --library=F:\biocbuild\bbs-3.22-bioc\R\library --no-vignettes --timings VanillaICE_1.71.0.tar.gz StartedAt: 2025-07-22 07:55:49 -0400 (Tue, 22 Jul 2025) EndedAt: 2025-07-22 08:01:27 -0400 (Tue, 22 Jul 2025) EllapsedTime: 337.7 seconds RetCode: 0 Status: OK CheckDir: VanillaICE.Rcheck Warnings: 0