Package: VanillaICE Version: 1.71.0 Command: /Library/Frameworks/R.framework/Resources/bin/R CMD INSTALL VanillaICE StartedAt: 2025-07-01 15:43:43 -0400 (Tue, 01 Jul 2025) EndedAt: 2025-07-01 15:44:31 -0400 (Tue, 01 Jul 2025) EllapsedTime: 48.5 seconds RetCode: 0 Status: OK