Package: VanillaICE Version: 1.71.0 Command: /Library/Frameworks/R.framework/Resources/bin/R CMD check --install=check:VanillaICE.install-out.txt --library=/Library/Frameworks/R.framework/Resources/library --no-vignettes --timings VanillaICE_1.71.0.tar.gz StartedAt: 2025-07-02 00:21:13 -0400 (Wed, 02 Jul 2025) EndedAt: 2025-07-02 00:25:59 -0400 (Wed, 02 Jul 2025) EllapsedTime: 285.7 seconds RetCode: 0 Status: OK CheckDir: VanillaICE.Rcheck Warnings: 0