Package: VanillaICE Version: 1.71.0 Command: rm -rf VanillaICE.buildbin-libdir && mkdir VanillaICE.buildbin-libdir && /Users/biocbuild/BBS/utils/build-universal.sh VanillaICE_1.71.0.tar.gz /Library/Frameworks/R.framework/Resources/bin/R VanillaICE.buildbin-libdir StartedAt: 2025-07-02 01:25:44 -0400 (Wed, 02 Jul 2025) EndedAt: 2025-07-02 01:26:37 -0400 (Wed, 02 Jul 2025) EllapsedTime: 53.2 seconds RetCode: 0 Status: OK PackageFile: VanillaICE_1.71.0.tgz PackageFileSize: 2.999 MiB