Package: VanillaICE Version: 1.71.0 Command: /Library/Frameworks/R.framework/Resources/bin/R CMD check --install=check:VanillaICE.install-out.txt --library=/Library/Frameworks/R.framework/Resources/library --no-vignettes --timings VanillaICE_1.71.0.tar.gz StartedAt: 2025-07-11 21:58:05 -0400 (Fri, 11 Jul 2025) EndedAt: 2025-07-11 21:59:46 -0400 (Fri, 11 Jul 2025) EllapsedTime: 101.3 seconds RetCode: 0 Status: OK CheckDir: VanillaICE.Rcheck Warnings: 0