Package: VaSP Version: 1.21.0 Command: /home/biocbuild/bbs-3.22-bioc/R/bin/R CMD INSTALL VaSP StartedAt: 2025-10-05 15:28:30 -0400 (Sun, 05 Oct 2025) EndedAt: 2025-10-05 15:29:03 -0400 (Sun, 05 Oct 2025) EllapsedTime: 33.2 seconds RetCode: 0 Status: OK