Package: VaSP Version: 1.21.0 Command: /home/biocbuild/bbs-3.22-bioc/R/bin/R CMD build --keep-empty-dirs --no-resave-data --md5 VaSP StartedAt: 2025-10-05 20:44:59 -0400 (Sun, 05 Oct 2025) EndedAt: 2025-10-05 20:45:50 -0400 (Sun, 05 Oct 2025) EllapsedTime: 51.0 seconds RetCode: 0 Status: OK PackageFile: VaSP_1.21.0.tar.gz PackageFileSize: 8.459 MiB