Package: VaSP Version: 1.21.0 Command: /Library/Frameworks/R.framework/Resources/bin/R CMD check --install=check:VaSP.install-out.txt --library=/Library/Frameworks/R.framework/Resources/library --no-vignettes --timings VaSP_1.21.0.tar.gz StartedAt: 2025-06-30 00:03:42 -0400 (Mon, 30 Jun 2025) EndedAt: 2025-06-30 00:08:09 -0400 (Mon, 30 Jun 2025) EllapsedTime: 266.5 seconds RetCode: 0 Status: OK CheckDir: VaSP.Rcheck Warnings: 0