Package: VERSO Version: 1.19.0 Command: /Library/Frameworks/R.framework/Resources/bin/R CMD INSTALL VERSO StartedAt: 2025-07-20 15:18:24 -0400 (Sun, 20 Jul 2025) EndedAt: 2025-07-20 15:19:12 -0400 (Sun, 20 Jul 2025) EllapsedTime: 48.4 seconds RetCode: 0 Status: OK