Package: VERSO Version: 1.19.0 Command: /Library/Frameworks/R.framework/Resources/bin/R CMD build --keep-empty-dirs --no-resave-data VERSO StartedAt: 2025-07-20 18:56:07 -0400 (Sun, 20 Jul 2025) EndedAt: 2025-07-20 18:56:18 -0400 (Sun, 20 Jul 2025) EllapsedTime: 11.3 seconds RetCode: 0 Status: OK PackageFile: VERSO_1.19.0.tar.gz PackageFileSize: 626.2 KiB