Package: VERSO Version: 1.19.0 Command: /Library/Frameworks/R.framework/Resources/bin/R CMD check --install=check:VERSO.install-out.txt --library=/Library/Frameworks/R.framework/Resources/library --no-vignettes --timings VERSO_1.19.0.tar.gz StartedAt: 2025-07-13 21:56:25 -0400 (Sun, 13 Jul 2025) EndedAt: 2025-07-13 21:56:39 -0400 (Sun, 13 Jul 2025) EllapsedTime: 14.2 seconds RetCode: 0 Status: OK CheckDir: VERSO.Rcheck Warnings: 0