Package: VERSO Version: 1.19.0 Command: rm -rf VERSO.buildbin-libdir && mkdir VERSO.buildbin-libdir && /Users/biocbuild/BBS/utils/build-universal.sh VERSO_1.19.0.tar.gz /Library/Frameworks/R.framework/Resources/bin/R VERSO.buildbin-libdir StartedAt: 2025-07-11 22:39:44 -0400 (Fri, 11 Jul 2025) EndedAt: 2025-07-11 22:39:46 -0400 (Fri, 11 Jul 2025) EllapsedTime: 2.0 seconds RetCode: 0 Status: OK PackageFile: VERSO_1.19.0.tgz PackageFileSize: 665.7 KiB