Package: VDJdive Version: 1.11.0 Command: /home/biocbuild/R/R/bin/R CMD check --install=check:VDJdive.install-out.txt --library=/home/biocbuild/R/R/site-library --no-vignettes --timings VDJdive_1.11.0.tar.gz StartedAt: 2025-07-22 12:50:42 -0000 (Tue, 22 Jul 2025) EndedAt: 2025-07-22 12:55:29 -0000 (Tue, 22 Jul 2025) EllapsedTime: 287.4 seconds RetCode: 0 Status: OK CheckDir: VDJdive.Rcheck Warnings: 0