Package: VDJdive Version: 1.11.0 Command: /Library/Frameworks/R.framework/Resources/bin/R CMD check --install=check:VDJdive.install-out.txt --library=/Library/Frameworks/R.framework/Resources/library --no-vignettes --timings VDJdive_1.11.0.tar.gz StartedAt: 2025-07-22 22:03:09 -0400 (Tue, 22 Jul 2025) EndedAt: 2025-07-22 22:04:30 -0400 (Tue, 22 Jul 2025) EllapsedTime: 81.0 seconds RetCode: 0 Status: OK CheckDir: VDJdive.Rcheck Warnings: 0