Package: VAExprs Version: 1.15.0 Command: /home/biocbuild/bbs-3.22-bioc/R/bin/R CMD INSTALL VAExprs StartedAt: 2025-07-14 15:57:22 -0400 (Mon, 14 Jul 2025) EndedAt: 2025-07-14 15:57:56 -0400 (Mon, 14 Jul 2025) EllapsedTime: 33.7 seconds RetCode: 0 Status: OK