Package: VAExprs Version: 1.15.0 Command: /Library/Frameworks/R.framework/Resources/bin/R CMD build --keep-empty-dirs --no-resave-data VAExprs StartedAt: 2025-07-20 18:54:57 -0400 (Sun, 20 Jul 2025) EndedAt: 2025-07-20 18:56:02 -0400 (Sun, 20 Jul 2025) EllapsedTime: 65.1 seconds RetCode: 1 Status: ERROR PackageFile: None PackageFileSize: NA