Package: VAExprs Version: 1.15.0 Command: /Library/Frameworks/R.framework/Resources/bin/R CMD INSTALL VAExprs StartedAt: 2025-07-01 15:28:27 -0400 (Tue, 01 Jul 2025) EndedAt: 2025-07-01 15:28:41 -0400 (Tue, 01 Jul 2025) EllapsedTime: 13.5 seconds RetCode: 0 Status: OK