Package: VAExprs Version: 1.15.0 Command: /Library/Frameworks/R.framework/Resources/bin/R CMD check --install=check:VAExprs.install-out.txt --library=/Library/Frameworks/R.framework/Resources/library --no-vignettes --timings VAExprs_1.15.0.tar.gz StartedAt: 2025-10-10 22:18:06 -0400 (Fri, 10 Oct 2025) EndedAt: 2025-10-10 22:19:41 -0400 (Fri, 10 Oct 2025) EllapsedTime: 95.1 seconds RetCode: 0 Status: OK CheckDir: VAExprs.Rcheck Warnings: 0