Package: Uniquorn Version: 2.29.1 Command: rm -rf Uniquorn.buildbin-libdir && mkdir Uniquorn.buildbin-libdir && F:\biocbuild\bbs-3.22-bioc\R\bin\R.exe CMD INSTALL --build --library=Uniquorn.buildbin-libdir Uniquorn_2.29.1.tar.gz StartedAt: 2025-08-15 11:33:46 -0400 (Fri, 15 Aug 2025) EndedAt: 2025-08-15 11:34:40 -0400 (Fri, 15 Aug 2025) EllapsedTime: 54.6 seconds RetCode: 0 Status: OK PackageFile: Uniquorn_2.29.1.zip PackageFileSize: 2.275 MiB