Package: UniProt.ws Version: 2.49.3 Command: F:\biocbuild\bbs-3.22-bioc\R\bin\R.exe CMD INSTALL UniProt.ws StartedAt: 2025-07-01 15:44:26 -0400 (Tue, 01 Jul 2025) EndedAt: 2025-07-01 15:44:57 -0400 (Tue, 01 Jul 2025) EllapsedTime: 31.3 seconds RetCode: 0 Status: OK