Package: UniProt.ws Version: 2.49.3 Command: F:\biocbuild\bbs-3.22-bioc\R\bin\R.exe CMD check --no-multiarch --install=check:UniProt.ws.install-out.txt --library=F:\biocbuild\bbs-3.22-bioc\R\library --no-vignettes --timings UniProt.ws_2.49.3.tar.gz StartedAt: 2025-07-03 07:51:02 -0400 (Thu, 03 Jul 2025) EndedAt: 2025-07-03 07:53:52 -0400 (Thu, 03 Jul 2025) EllapsedTime: 170.1 seconds RetCode: 0 Status: OK CheckDir: UniProt.ws.Rcheck Warnings: 0