Package: UniProt.ws Version: 2.49.3 Command: chmod a+r UniProt.ws -R && F:\biocbuild\bbs-3.22-bioc\R\bin\R.exe CMD build --keep-empty-dirs --no-resave-data UniProt.ws StartedAt: 2025-07-01 22:42:06 -0400 (Tue, 01 Jul 2025) EndedAt: 2025-07-01 22:42:41 -0400 (Tue, 01 Jul 2025) EllapsedTime: 35.9 seconds RetCode: 0 Status: OK PackageFile: UniProt.ws_2.49.3.tar.gz PackageFileSize: 241.1 KiB