Package: UniProt.ws Version: 2.49.3 Command: rm -rf UniProt.ws.buildbin-libdir && mkdir UniProt.ws.buildbin-libdir && F:\biocbuild\bbs-3.22-bioc\R\bin\R.exe CMD INSTALL --build --library=UniProt.ws.buildbin-libdir UniProt.ws_2.49.3.tar.gz StartedAt: 2025-07-02 10:09:16 -0400 (Wed, 02 Jul 2025) EndedAt: 2025-07-02 10:09:56 -0400 (Wed, 02 Jul 2025) EllapsedTime: 40.7 seconds RetCode: 0 Status: OK PackageFile: UniProt.ws_2.49.3.zip PackageFileSize: 501.1 KiB