Package: Ularcirc Version: 1.27.2 Command: /Library/Frameworks/R.framework/Resources/bin/R CMD INSTALL Ularcirc StartedAt: 2025-10-03 15:35:58 -0400 (Fri, 03 Oct 2025) EndedAt: 2025-10-03 15:36:13 -0400 (Fri, 03 Oct 2025) EllapsedTime: 14.4 seconds RetCode: 0 Status: OK