Package: Ularcirc Version: 1.27.0 Command: /Library/Frameworks/R.framework/Resources/bin/R CMD build --keep-empty-dirs --no-resave-data Ularcirc StartedAt: 2025-07-15 17:49:15 -0400 (Tue, 15 Jul 2025) EndedAt: 2025-07-15 17:49:16 -0400 (Tue, 15 Jul 2025) EllapsedTime: 1.0 seconds RetCode: 1 Status: ERROR PackageFile: None PackageFileSize: NA