Package: UPDhmm Version: 1.5.0 Command: /home/biocbuild/R/R/bin/R CMD INSTALL UPDhmm StartedAt: 2025-10-02 21:10:07 -0000 (Thu, 02 Oct 2025) EndedAt: 2025-10-02 21:10:09 -0000 (Thu, 02 Oct 2025) EllapsedTime: 2.0 seconds RetCode: 0 Status: OK