Package: UPDhmm Version: 1.5.0 Command: /home/biocbuild/R/R/bin/R CMD check --install=check:UPDhmm.install-out.txt --library=/home/biocbuild/R/R/site-library --no-vignettes --timings UPDhmm_1.5.0.tar.gz StartedAt: 2025-10-03 12:42:16 -0000 (Fri, 03 Oct 2025) EndedAt: 2025-10-03 12:43:30 -0000 (Fri, 03 Oct 2025) EllapsedTime: 74.2 seconds RetCode: 0 Status: WARNINGS CheckDir: UPDhmm.Rcheck Warnings: 1