Package: UPDhmm Version: 1.5.0 Command: chmod a+r UPDhmm -R && F:\biocbuild\bbs-3.22-bioc\R\bin\R.exe CMD build --keep-empty-dirs --no-resave-data UPDhmm StartedAt: 2025-07-21 22:48:27 -0400 (Mon, 21 Jul 2025) EndedAt: 2025-07-21 22:48:31 -0400 (Mon, 21 Jul 2025) EllapsedTime: 4.2 seconds RetCode: 0 Status: OK PackageFile: UPDhmm_1.5.0.tar.gz PackageFileSize: 240 KiB