Package: UPDhmm Version: 1.5.0 Command: rm -rf UPDhmm.buildbin-libdir && mkdir UPDhmm.buildbin-libdir && F:\biocbuild\bbs-3.22-bioc\R\bin\R.exe CMD INSTALL --build --library=UPDhmm.buildbin-libdir UPDhmm_1.5.0.tar.gz StartedAt: 2025-07-22 10:22:30 -0400 (Tue, 22 Jul 2025) EndedAt: 2025-07-22 10:22:36 -0400 (Tue, 22 Jul 2025) EllapsedTime: 5.8 seconds RetCode: 0 Status: OK PackageFile: UPDhmm_1.5.0.zip PackageFileSize: 264.1 KiB