Package: UMI4Cats Version: 1.19.1 Command: F:\biocbuild\bbs-3.22-bioc\R\bin\R.exe CMD check --no-multiarch --install=check:UMI4Cats.install-out.txt --library=F:\biocbuild\bbs-3.22-bioc\R\library --no-vignettes --timings UMI4Cats_1.19.1.tar.gz StartedAt: 2025-07-23 07:53:41 -0400 (Wed, 23 Jul 2025) EndedAt: 2025-07-23 08:00:49 -0400 (Wed, 23 Jul 2025) EllapsedTime: 427.7 seconds RetCode: 0 Status: OK CheckDir: UMI4Cats.Rcheck Warnings: 0