Package: UMI4Cats Version: 1.19.1 Command: /Library/Frameworks/R.framework/Resources/bin/R CMD INSTALL UMI4Cats StartedAt: 2025-07-22 15:40:13 -0400 (Tue, 22 Jul 2025) EndedAt: 2025-07-22 15:41:09 -0400 (Tue, 22 Jul 2025) EllapsedTime: 55.3 seconds RetCode: 0 Status: OK