Package: UMI4Cats Version: 1.19.1 Command: /Library/Frameworks/R.framework/Resources/bin/R CMD check --install=check:UMI4Cats.install-out.txt --library=/Library/Frameworks/R.framework/Resources/library --no-vignettes --timings UMI4Cats_1.19.1.tar.gz StartedAt: 2025-07-23 00:27:28 -0400 (Wed, 23 Jul 2025) EndedAt: 2025-07-23 00:33:41 -0400 (Wed, 23 Jul 2025) EllapsedTime: 373.4 seconds RetCode: 0 Status: OK CheckDir: UMI4Cats.Rcheck Warnings: 0