Package: UMI4Cats Version: 1.19.1 Command: /Library/Frameworks/R.framework/Resources/bin/R CMD build --keep-empty-dirs --no-resave-data UMI4Cats StartedAt: 2025-07-22 18:48:36 -0400 (Tue, 22 Jul 2025) EndedAt: 2025-07-22 18:50:43 -0400 (Tue, 22 Jul 2025) EllapsedTime: 126.9 seconds RetCode: 0 Status: OK PackageFile: UMI4Cats_1.19.1.tar.gz PackageFileSize: 3.804 MiB