Package: UMI4Cats Version: 1.19.1 Command: rm -rf UMI4Cats.buildbin-libdir && mkdir UMI4Cats.buildbin-libdir && /Users/biocbuild/BBS/utils/build-universal.sh UMI4Cats_1.19.1.tar.gz /Library/Frameworks/R.framework/Resources/bin/R UMI4Cats.buildbin-libdir StartedAt: 2025-07-23 01:35:47 -0400 (Wed, 23 Jul 2025) EndedAt: 2025-07-23 01:36:47 -0400 (Wed, 23 Jul 2025) EllapsedTime: 60.2 seconds RetCode: 0 Status: OK PackageFile: UMI4Cats_1.19.1.tgz PackageFileSize: 3.356 MiB