Package: UCell Version: 2.13.1 Command: /home/biocbuild/R/R/bin/R CMD check --install=check:UCell.install-out.txt --library=/home/biocbuild/R/R/site-library --no-vignettes --timings UCell_2.13.1.tar.gz StartedAt: 2025-07-01 12:47:12 -0000 (Tue, 01 Jul 2025) EndedAt: 2025-07-01 12:50:56 -0000 (Tue, 01 Jul 2025) EllapsedTime: 223.4 seconds RetCode: 0 Status: OK CheckDir: UCell.Rcheck Warnings: 0